BEGIN:VCALENDAR
VERSION:2.0
PRODID:-//Drupal iCal API//EN
X-WR-TIMEZONE:America/Denver
BEGIN:VTIMEZONE
TZID:America/Denver
X-LIC-LOCATION:America/Denver
BEGIN:DAYLIGHT
TZNAME:MDT
TZOFFSETFROM:-0700
TZOFFSETTO:-0600
DTSTART:20260308T090000
END:DAYLIGHT
BEGIN:STANDARD
TZNAME:MST
TZOFFSETFROM:-0600
TZOFFSETTO:-0700
DTSTART:20251102T080000
END:STANDARD
END:VTIMEZONE
BEGIN:VEVENT
UID:98c96c73-54ec-4828-a275-7446acaf7c57
DTSTART;TZID=America/Denver:20260422T173000
SEQUENCE:0
TRANSP:TRANSPARENT
DTEND;TZID=America/Denver:20260422T183000
SUMMARY:Community Development Block Grant Public Notice Of Application
CLASS:PUBLIC
DESCRIPTION:Description \n\nNew Zoom Link \n\nMeeting ID: 779 0301 8483\n\
 nPasscode: 0U3ezA\n\n \n\n \n 
DTSTAMP:20260425T141911Z
END:VEVENT
END:VCALENDAR