BEGIN:VCALENDAR
VERSION:2.0
PRODID:-//Drupal iCal API//EN
X-WR-TIMEZONE:America/Denver
BEGIN:VTIMEZONE
TZID:America/Denver
X-LIC-LOCATION:America/Denver
BEGIN:DAYLIGHT
TZNAME:MDT
TZOFFSETFROM:-0700
TZOFFSETTO:-0600
DTSTART:20260308T090000
END:DAYLIGHT
BEGIN:STANDARD
TZNAME:MST
TZOFFSETFROM:-0600
TZOFFSETTO:-0700
DTSTART:20251102T080000
END:STANDARD
END:VTIMEZONE
BEGIN:VEVENT
UID:dae20207-b78b-40a4-86f1-9585148fe5fc
DTSTART;TZID=America/Denver:20260420T080000
SEQUENCE:0
TRANSP:TRANSPARENT
DTEND;TZID=America/Denver:20260420T090000
SUMMARY:Special City Council Meeting 8 AM
CLASS:PUBLIC
DTSTAMP:20260425T050224Z
END:VEVENT
END:VCALENDAR