BEGIN:VCALENDAR
VERSION:2.0
PRODID:-//Drupal iCal API//EN
X-WR-TIMEZONE:America/Denver
BEGIN:VTIMEZONE
TZID:America/Denver
X-LIC-LOCATION:America/Denver
BEGIN:DAYLIGHT
TZNAME:MDT
TZOFFSETFROM:-0700
TZOFFSETTO:-0600
DTSTART:20260308T090000
END:DAYLIGHT
BEGIN:STANDARD
TZNAME:MST
TZOFFSETFROM:-0600
TZOFFSETTO:-0700
DTSTART:20251102T080000
END:STANDARD
END:VTIMEZONE
BEGIN:VEVENT
UID:af0ab65a-2a75-4d27-ada8-2884127c1728
DTSTART;TZID=America/Denver:20260430T170000
SEQUENCE:0
TRANSP:TRANSPARENT
DTEND;TZID=America/Denver:20260430T180000
SUMMARY:Land Use Code Update Public Engagement Zoom Meeting
CLASS:PUBLIC
DESCRIPTION:Body \n\nCity of Cripple Creek is inviting you to a scheduled Z
 oom meeting. \nJoin Zoom Meeting \nhttps://us06web.zoom.us/j/85469316661
 ?pwd=vw1dbxZpOxR2ewKqha1v6TLwyYa4q1.1\n\nMeeting ID: 854 6931 6661 \nPass
 code: 824566 \n\n--- \n\nOne tap mobile \n+17209289299\,\,85469316661#\
 ,\,\,\,*824566# US (Denver) \n\n--- \n\nJoin by SIP \n• 85469316661 [
 at] zoomcrc.com (85469316661[at]zoomcrc[dot]com) \n\nJoin instructions \
 nhttps://us06web.zoom.us/meetings/85469316661/invitations?signature=tMTPIq
 3Nt7L__uwSyKXqX8R4XDVteWoLwb8udlCFqck\n 
DTSTAMP:20260425T083201Z
END:VEVENT
END:VCALENDAR